BEGIN:VCALENDAR
VERSION:2.0
PRODID:-//Teknseo 2019 - Paris - ECPv5.0.0.1//NONSGML v1.0//EN
CALSCALE:GREGORIAN
METHOD:PUBLISH
X-WR-CALNAME:Teknseo 2019 - Paris
X-ORIGINAL-URL:https://teknseo.com
X-WR-CALDESC:Évènements pour Teknseo 2019 - Paris
BEGIN:VTIMEZONE
TZID:Europe/Paris
BEGIN:DAYLIGHT
TZOFFSETFROM:+0100
TZOFFSETTO:+0200
TZNAME:CEST
DTSTART:20190331T010000
END:DAYLIGHT
BEGIN:STANDARD
TZOFFSETFROM:+0200
TZOFFSETTO:+0100
TZNAME:CET
DTSTART:20191027T010000
END:STANDARD
END:VTIMEZONE
BEGIN:VEVENT
DTSTART;VALUE=DATE:20191202
DTEND;VALUE=DATE:20191203
DTSTAMP:20260420T134833
CREATED:20190511T163734Z
LAST-MODIFIED:20190905T162811Z
UID:1444-1575244800-1575331199@teknseo.com
SUMMARY:Teknseo - 2 décembre 2019
DESCRIPTION:\n\nTeknseo revient pour une 7ème édition… à Paris !\n\n\n\n\n\nTeknseo 2019\, c’est une journée d’atelierss techniques en petits groupe autour du thème du référencement. Cette année Teknseo s’allie à QueduWeb : une journée de conférences données par des expert du SEO\, du webmarketing et d’autres domaines parfois surprenants… \nAu programme : Ateliers techniques\, Conférences d’experts\, retours d’expérience et networking. \n\n\n\n
URL:https://teknseo.com/event/teknseo-2-decembre-2019/
LOCATION:Centre Étoile Saint-Honoré\, 21-25 rue Balzac\, Paris\, 75008\, France
ORGANIZER;CN="IX-LABS":MAILTO:info@queduweb.fr
END:VEVENT
END:VCALENDAR